BEGIN:VCALENDAR
VERSION:2.0
PRODID:-//Cappella Cantorum - ECPv4.9.8//NONSGML v1.0//EN
CALSCALE:GREGORIAN
METHOD:PUBLISH
X-WR-CALNAME:Cappella Cantorum
X-ORIGINAL-URL:https://www.cappellacantorum.org
X-WR-CALDESC:Events for Cappella Cantorum
BEGIN:VTIMEZONE
TZID:America/New_York
BEGIN:DAYLIGHT
TZOFFSETFROM:-0500
TZOFFSETTO:-0400
TZNAME:EDT
DTSTART:20190310T070000
END:DAYLIGHT
BEGIN:STANDARD
TZOFFSETFROM:-0400
TZOFFSETTO:-0500
TZNAME:EST
DTSTART:20191103T060000
END:STANDARD
END:VTIMEZONE
BEGIN:VEVENT
DTSTART;TZID="America/New_York":20190909T190000
DTEND;TZID="America/New_York":20190909T210000
DTSTAMP:20260425T115649
CREATED:20190820T193537Z
LAST-MODIFIED:20190820T193537Z
UID:6271-1568055600-1568062800@www.cappellacantorum.org
SUMMARY:Registration and Rehearsal for Fall 2019 Chorus
DESCRIPTION:Join the Cappella Cantorum Masterworks Chorus for its upcoming 50th Anniversary year!! Registration is on Monday\, September 9 (7 p.m. Registration) at John Winthrop Middle School\, 1 Winthrop Road\, Deep River. Melodious and inspiring works including Bach’s Christmas Oratorio will be performed in concert\, Sunday\, December 15 at John Winthrop Middle School\, with professional orchestra and soloists. Simon Holt of the Salt Marsh Opera will direct. Auditions are not required and anyone can join!! Registration is $50 plus cost of music ($15). \nOnline payments have a small processing fee.  \nFor more information call 860-526-1038. \nRegister and Purchase Music Score Here\n  \n
URL:https://www.cappellacantorum.org/event/registration-and-rehearsal-for-fall-2019-chorus/
LOCATION:John Winthrop Middle School: Cafeteria\, One Winthrop Road\, Deep River\, CT
CATEGORIES:MasterWorks Chorus,Rehearsals,Singer Registrations
ORGANIZER;CN="Cappella%20Cantorum":MAILTO:info@cappellacantorum.org
END:VEVENT
END:VCALENDAR