BEGIN:VCALENDAR
VERSION:2.0
PRODID:-//Cappella Cantorum - ECPv4.9.8//NONSGML v1.0//EN
CALSCALE:GREGORIAN
METHOD:PUBLISH
X-WR-CALNAME:Cappella Cantorum
X-ORIGINAL-URL:https://www.cappellacantorum.org
X-WR-CALDESC:Events for Cappella Cantorum
BEGIN:VTIMEZONE
TZID:America/New_York
BEGIN:DAYLIGHT
TZOFFSETFROM:-0500
TZOFFSETTO:-0400
TZNAME:EDT
DTSTART:20190310T070000
END:DAYLIGHT
BEGIN:STANDARD
TZOFFSETFROM:-0400
TZOFFSETTO:-0500
TZNAME:EST
DTSTART:20191103T060000
END:STANDARD
END:VTIMEZONE
BEGIN:VEVENT
DTSTART;TZID="America/New_York":20190414T150000
DTEND;TZID="America/New_York":20190414T173000
DTSTAMP:20260425T190748
CREATED:20181227T155506Z
LAST-MODIFIED:20190509T143253Z
UID:6107-1555254000-1555263000@www.cappellacantorum.org
SUMMARY:Mendelssohn’s “Elijah” Spring Concert
DESCRIPTION:Enjoy the Cappella Cantorum Masterworks Chorus in concert on Sunday\, April 14 (3 p.m.) at John Winthrop Middle School\, 1 Winthrop Road\, Deep River. Melodious and inspiring works of Mendelssohn’s “Elijah” will be performed with professional orchestra and soloists. Simon Holt of the Salt Marsh Opera will direct. \nOnline Ticket Sales have closed\, tickets are still available at the door! Questions? Please call 860-941-8243. \nThank you! \n
URL:https://www.cappellacantorum.org/event/mendelssohns-elijah-spring-concert/
LOCATION:John Winthrop Middle School: Auditorium\, One Winthrop Road\, Deep River\, CT
CATEGORIES:Performances,Singer Registrations
ORGANIZER;CN="Cappella%20Cantorum":MAILTO:info@cappellacantorum.org
END:VEVENT
END:VCALENDAR