BEGIN:VCALENDAR
VERSION:2.0
PRODID:-//Cappella Cantorum - ECPv4.9.8//NONSGML v1.0//EN
CALSCALE:GREGORIAN
METHOD:PUBLISH
X-WR-CALNAME:Cappella Cantorum
X-ORIGINAL-URL:https://www.cappellacantorum.org
X-WR-CALDESC:Events for Cappella Cantorum
BEGIN:VTIMEZONE
TZID:America/New_York
BEGIN:DAYLIGHT
TZOFFSETFROM:-0500
TZOFFSETTO:-0400
TZNAME:EDT
DTSTART:20180311T070000
END:DAYLIGHT
BEGIN:STANDARD
TZOFFSETFROM:-0400
TZOFFSETTO:-0500
TZNAME:EST
DTSTART:20181104T060000
END:STANDARD
END:VTIMEZONE
BEGIN:VEVENT
DTSTART;TZID="America/New_York":20181126T193000
DTEND;TZID="America/New_York":20181126T210000
DTSTAMP:20260426T040910
CREATED:20180809T123254Z
LAST-MODIFIED:20180926T173145Z
UID:5937-1543260600-1543266000@www.cappellacantorum.org
SUMMARY:Final MasterWorks Rehearsal with Orchestra
DESCRIPTION:Cappella Cantorum Masterworks Chorus rehearsal of Puccini’s Messa di Gloria and Saint-Saens’ Christmas Oratorio at John Winthrop Middle School\, 1 Winthrop Road\, Deep River. For more information call 860-526-1038. \n
URL:https://www.cappellacantorum.org/event/fall-2018-rehearsals-2018-11-26/
LOCATION:John Winthrop Middle School: Auditorium\, One Winthrop Road\, Deep River\, CT
CATEGORIES:Rehearsals
ORGANIZER;CN="Cappella%20Cantorum":MAILTO:info@cappellacantorum.org
END:VEVENT
END:VCALENDAR