BEGIN:VCALENDAR
VERSION:2.0
PRODID:-//Cappella Cantorum - ECPv4.9.8//NONSGML v1.0//EN
CALSCALE:GREGORIAN
METHOD:PUBLISH
X-WR-CALNAME:Cappella Cantorum
X-ORIGINAL-URL:https://www.cappellacantorum.org
X-WR-CALDESC:Events for Cappella Cantorum
BEGIN:VTIMEZONE
TZID:America/New_York
BEGIN:DAYLIGHT
TZOFFSETFROM:-0500
TZOFFSETTO:-0400
TZNAME:EDT
DTSTART:20180311T070000
END:DAYLIGHT
BEGIN:STANDARD
TZOFFSETFROM:-0400
TZOFFSETTO:-0500
TZNAME:EST
DTSTART:20181104T060000
END:STANDARD
END:VTIMEZONE
BEGIN:VEVENT
DTSTART;TZID="America/New_York":20181216T160000
DTEND;TZID="America/New_York":20181216T180000
DTSTAMP:20260426T041113
CREATED:20181130T122402Z
LAST-MODIFIED:20181130T122402Z
UID:6077-1544976000-1544983200@www.cappellacantorum.org
SUMMARY:10th Annual Handel Messiah: Sing or Listen at The Kate
DESCRIPTION:Participate in the sounds of the season with a Kate holiday tradition. Open to all who want to sing-along\, the MessiahSing combines Cappella Cantorum’s professional soloists with a chorus of talented volunteers. Sit in the back and listen or sit down front and participate. Singers should arrive at 3:30 for section seating and rehearsal. Sit in the back and listen. \n10th Annual MESSIAH Sing or Listen\, sponsored by Cappella Cantorum\, Sun.\, Dec. 16\, singers rehearse 3:30 pm in sections. 4:00 pm perform in The Katharine Hepburn Cultural Art Center\, 300 Main St. Old Saybrook\, CT 06475. The Singalong is open to all\, featuring professional soloists. Bring your Messiah Scores if you have them or they will be provided. Singers Call time is 3:30 pm. The audience is invited to sit in the back\, witness the short rehearsal and the Sing. Tickets available through the Box Office\, 877-503-1286\, www.thekate.org or day of performance\, no reserved seats. For information: Barry Asch at 860-388-2871. \nBuy Tickets Now: $10 General Admission \n
URL:https://www.cappellacantorum.org/event/10th-annual-handel-messiah-sing-or-listen-at-the-kate/
LOCATION:The Katharine Hepburn Cultural Arts Center\, 300 Main Street\, Old Saybrook\, CT
CATEGORIES:Performances,Singer Registrations
ORGANIZER;CN="Cappella%20Cantorum":MAILTO:info@cappellacantorum.org
END:VEVENT
END:VCALENDAR